BEGIN:VCALENDAR
VERSION:2.0
PRODID:-//District of Logan Lake - ECPv6.15.13//NONSGML v1.0//EN
CALSCALE:GREGORIAN
METHOD:PUBLISH
X-WR-CALNAME:District of Logan Lake
X-ORIGINAL-URL:https://loganlake.ca
X-WR-CALDESC:Events for District of Logan Lake
REFRESH-INTERVAL;VALUE=DURATION:PT1H
X-Robots-Tag:noindex
X-PUBLISHED-TTL:PT1H
BEGIN:VTIMEZONE
TZID:America/Vancouver
BEGIN:DAYLIGHT
TZOFFSETFROM:-0800
TZOFFSETTO:-0700
TZNAME:PDT
DTSTART:20210314T100000
END:DAYLIGHT
BEGIN:STANDARD
TZOFFSETFROM:-0700
TZOFFSETTO:-0800
TZNAME:PST
DTSTART:20211107T090000
END:STANDARD
BEGIN:DAYLIGHT
TZOFFSETFROM:-0800
TZOFFSETTO:-0700
TZNAME:PDT
DTSTART:20220313T100000
END:DAYLIGHT
BEGIN:STANDARD
TZOFFSETFROM:-0700
TZOFFSETTO:-0800
TZNAME:PST
DTSTART:20221106T090000
END:STANDARD
BEGIN:DAYLIGHT
TZOFFSETFROM:-0800
TZOFFSETTO:-0700
TZNAME:PDT
DTSTART:20230312T100000
END:DAYLIGHT
BEGIN:STANDARD
TZOFFSETFROM:-0700
TZOFFSETTO:-0800
TZNAME:PST
DTSTART:20231105T090000
END:STANDARD
END:VTIMEZONE
BEGIN:VEVENT
DTSTART;TZID=America/Vancouver:20220517T100000
DTEND;TZID=America/Vancouver:20220517T140000
DTSTAMP:20260421T030412
CREATED:20220502T225330Z
LAST-MODIFIED:20220502T225527Z
UID:1844-1652781600-1652796000@loganlake.ca
SUMMARY:Local Government Awareness Week
DESCRIPTION:It’s Local Government Awareness Week!! You know what that means? We are doing some pretty cool stuff. \nCome join us at the Fire Hall on May 17th to see a car get ripped to shreds with the Jaws of Life\, eat some hot dogs\, and learn about all the things that your District employees do. And no\, we’re not all just playing with calculators all day. \nThere will be prizes for best artwork! Colouring contest is open to all children/youth and deadline is May 13th. Download the pages at: \nhttps://loganlake.ca/your-municipality/council-meetings/local-government-awareness-week/ \nHope to see you there!
URL:https://loganlake.ca/event/local-government-awareness-week/
LOCATION:Logan Lake Fire Hall\, 120 Chartrand Place\, Logan Lake\, British Columbia\, V0K 1W0\, Canada
CATEGORIES:Local Government Awareness Week
ORGANIZER;CN="District of Logan Lake":MAILTO:mcarlsen@loganlake.ca
END:VEVENT
BEGIN:VEVENT
DTSTART;TZID=America/Vancouver:20220517T100000
DTEND;TZID=America/Vancouver:20220517T140000
DTSTAMP:20260421T030412
CREATED:20220502T225330Z
LAST-MODIFIED:20250516T062939Z
UID:6500-1652781600-1652796000@loganlake.ca
SUMMARY:Local Government Awareness Week
DESCRIPTION:It’s Local Government Awareness Week!! You know what that means? We are doing some pretty cool stuff. \nCome join us at the Fire Hall on May 17th to see a car get ripped to shreds with the Jaws of Life\, eat some hot dogs\, and learn about all the things that your District employees do. And no\, we’re not all just playing with calculators all day. \nThere will be prizes for best artwork! Colouring contest is open to all children/youth and deadline is May 13th. Download the pages at: \nhttps://loganlake.ca/your-municipality/council-meetings/local-government-awareness-week/ \nHope to see you there!
URL:https://loganlake.ca/event/local-government-awareness-week-3/
LOCATION:Logan Lake Fire Hall\, 120 Chartrand Place\, Logan Lake\, British Columbia\, V0K 1W0\, Canada
CATEGORIES:Local Government Awareness Week
ORGANIZER;CN="District of Logan Lake":MAILTO:mcarlsen@loganlake.ca
END:VEVENT
END:VCALENDAR